BEGIN:VCALENDAR
VERSION:2.0
PRODID:-//https://www.hadlow.ac.uk///NONSGML kigkonsult.se iCalcreator 2.10.15//
METHOD:PUBLISH
BEGIN:VEVENT
UID:20260421T140037UTC-1578B9Lt00@https://www.hadlow.ac.uk/
DTSTAMP:20260421T140037Z
DESCRIPTION:We are&nbsp\;excited to be part of Living Land\, a unique hands
 -on event that has inspired thousands of primary school children for over 
 20 years. Living Land brings learning to life by giving Year 3 and 4 pupil
 s the chance to discover where their food comes from\, explore the world o
 f farming\, and experience the traditions of the countryside.\nAt our stan
 d\, you will have the opportunity to meet our friendly team and learn more
  about the skills and careers that support farming\, food production\, and
  land-based industries. We look forward to welcoming schools to our stall 
 and sharing the exciting opportunities available through rural and land-ba
 sed education.\n&nbsp\; https://www.hadlow.ac.uk/news-events/events/event/
 101-living-land-2026
DTSTART:20260506T080000Z
DTEND:20260506T140000Z
LOCATION:Kent Showground\, Detling\, Maidstone ME14 3JF (Kent Showground\, 
 Detling\, Maidstone ME14 3JF)
SUMMARY:Living Land 2026
URL:https://www.hadlow.ac.uk/news-events/events/event/101-living-land-2026
END:VEVENT
END:VCALENDAR
