BEGIN:VCALENDAR
VERSION:2.0
PRODID:-//https://www.hadlow.ac.uk///NONSGML kigkonsult.se iCalcreator 2.10.15//
METHOD:PUBLISH
BEGIN:VEVENT
UID:20260421T140100UTC-4633v9HU73@https://www.hadlow.ac.uk/
DTSTAMP:20260421T140100Z
DESCRIPTION:We are proud to be attending the Countryside Careers Evening\,&
 nbsp\;a brand-new event designed to inspire visitors aged 13+ and those co
 nsidering a change of career across Kent. The event aims to broaden unders
 tanding of the wide range of opportunities available within rural\, land-b
 ased and environmental industries.\nThis event brings together industry pr
 ofessionals\, educators\, and employers to give students\, parents\, and v
 isitors valuable insight into opportunities in agriculture\, animal care\,
  horticulture and more.&nbsp\;Visitors will have the chance to explore div
 erse countryside career pathways\, engage directly with local employers an
 d industry professionals\, and learn more about apprenticeships\, further 
 education\, and progression routes.&nbsp\;\nJoin us to meet our knowledgea
 ble team\, explore displays\, and discover the skills\, courses\, and care
 er pathways that can lead to a rewarding future in the countryside sector.
  Whether you're passionate about animals\, the environment\, or working ou
 tdoors\, the Countryside Careers Evening is a fantastic opportunity to lea
 rn more about where a land-based career could take you.&nbsp\; https://www
 .hadlow.ac.uk/news-events/events/event/102-countryside-careers-evening-202
 6
DTSTART:20260507T110000Z
DTEND:20260507T180000Z
LOCATION:Kent Showground\, Detling\, Maidstone ME14 3JF (Kent Showground\, 
 Detling\, Maidstone ME14 3JF)
SUMMARY:Countryside Careers Evening 2026
URL:https://www.hadlow.ac.uk/news-events/events/event/102-countryside-caree
 rs-evening-2026
END:VEVENT
END:VCALENDAR
