BEGIN:VCALENDAR
VERSION:2.0
PRODID:-//https://www.hadlow.ac.uk///NONSGML kigkonsult.se iCalcreator 2.10.15//
METHOD:PUBLISH
BEGIN:VEVENT
UID:20260424T132112UTC-4754LObRMV@https://www.hadlow.ac.uk/
DTSTAMP:20260424T132112Z
DESCRIPTION:RHS Chelsea Flower Show 2026 promises amazing garden designs\, 
 gorgeous floral displays and exclusive shopping.\nOur students and staff r
 eturn for another year with an exhibit that explores the relationship betw
 een mathematics and the natural world.&nbsp\;Following a Bronze medal in 2
 024 and a Silver Gilt in 2025\, Hadlow College is aiming high for further 
 success in 2026.\nOur college's 2026 garden is titled 'The Magic Number' a
 nd has been under construction since January at Hadlow. It&nbsp\;takes ins
 piration from the Fibonacci sequence\, a numerical pattern found in nature
 . Students across all levels have contributed to the design\, build and pr
 esentation. Our garden&nbsp\;will be located within the Discovery Zone of 
 the Grand Pavilion\, adjacent to this year’s main Show Gardens.\nJoin us a
 nd visit our garden! You can find out more&nbsp\;here. https://www.hadlow.
 ac.uk/news-events/events/event/104-rhs-chelsea-flower-show-2026
DTSTART:20260519T070000Z
DTEND:20260523T163000Z
LOCATION:London Gate\, Royal Hospital Road\, Royal Hospital\, Chelsea\, Lon
 don\, SW3 4SR ()
SUMMARY:RHS Chelsea Flower Show 2026
URL:https://www.hadlow.ac.uk/news-events/events/event/104-rhs-chelsea-flowe
 r-show-2026
END:VEVENT
END:VCALENDAR
