BEGIN:VCALENDAR
VERSION:2.0
PRODID:-//https://www.hadlow.ac.uk///NONSGML kigkonsult.se iCalcreator 2.10.15//
METHOD:PUBLISH
BEGIN:VEVENT
UID:20260421T133209UTC-1932xMc1W9@https://www.hadlow.ac.uk/
DTSTAMP:20260421T133209Z
DESCRIPTION:Pre-registration has now closed for this event!\nOpen Morning 1
 0am-1pm – January 2022\nCome and see our specialist land-based College whe
 re you will have the opportunity to discover your next steps or career cha
 nge with Hadlow College or visit our specialist Equine Greenwich centre. Y
 ou can explore our state of the art facilities with the chance to speak to
  our dedicated lecturers and you will be able to see our facilities and sp
 eak to current students about everything Hadlow!\nTo pre-register for eith
 er of our Hadlow or Greenwich Open Mornings please enter your details into
  the relevant form below:\nPlease note pre-registration&nbsp\;will close a
 t 12pm on the Friday 28th January 2022.&nbsp\;\nIf you have any questions 
 please email the&nbsp\;Events Team.&nbsp\; https://www.hadlow.ac.uk/news-e
 vents/events/event/13-hadlow-college-open-morning
DTSTART:20220129T100000Z
DTEND:20220129T130000Z
LOCATION:Hadlow College (Tonbridge Rd\, Tonbridge TN11 0AL\, UK)
SUMMARY:Hadlow College Open Morning
URL:https://www.hadlow.ac.uk/news-events/events/event/13-hadlow-college-ope
 n-morning
END:VEVENT
END:VCALENDAR
