BEGIN:VCALENDAR
VERSION:2.0
PRODID:-//https://www.hadlow.ac.uk///NONSGML kigkonsult.se iCalcreator 2.10.15//
METHOD:PUBLISH
BEGIN:VEVENT
UID:20260423T084428UTC-9986g6fubD@https://www.hadlow.ac.uk/
DTSTAMP:20260423T084428Z
DESCRIPTION:The biggest event in Carp Fishing!Just got bigger\, better and 
 a new location. You can register and find out more by visiting their websi
 te. https://www.hadlow.ac.uk/news-events/events/event/20-brentwood-carp-sh
 ow-2022
DTSTART:20220326T090000Z
DTEND:20220327T150000Z
LOCATION:North Weald Airfield (North Weald Airfield\, Merlin Way\, Epping\,
 CM16 6HR)
SUMMARY:Brentwood Carp Show 2022
URL:https://www.hadlow.ac.uk/news-events/events/event/20-brentwood-carp-sho
 w-2022
END:VEVENT
END:VCALENDAR
