BEGIN:VCALENDAR
VERSION:2.0
PRODID:-//https://www.hadlow.ac.uk///NONSGML kigkonsult.se iCalcreator 2.10.15//
METHOD:PUBLISH
BEGIN:VEVENT
UID:20260423T112103UTC-0025UKTdZV@https://www.hadlow.ac.uk/
DTSTAMP:20260423T112103Z
DESCRIPTION:The Kent County Show on 8\, 9\, 10 July 2022 is the region’s sh
 owcase event for farming\, agriculture and countryside life. For three day
 s a year\, animals\, horses\, vintage vehicles\, retail stands and much mo
 re converge on the stunning surroundings of the Kent Showground for a cele
 bration of the best in the county. You can register and find out more by v
 isiting their website. https://www.hadlow.ac.uk/news-events/events/event/2
 2-kent-county-show-agricultural-society-2022
DTSTART:20220708T080000Z
DTEND:20220710T160000Z
LOCATION:Kent Showground (Kent Showground\, Detling\, Maidstone ME14 3JF)
SUMMARY:Kent County Show Agricultural Society 2022
URL:https://www.hadlow.ac.uk/news-events/events/event/22-kent-county-show-a
 gricultural-society-2022
END:VEVENT
END:VCALENDAR
