BEGIN:VCALENDAR
VERSION:2.0
PRODID:-//https://www.hadlow.ac.uk///NONSGML kigkonsult.se iCalcreator 2.10.15//
METHOD:PUBLISH
BEGIN:VEVENT
UID:20260422T102539UTC-1897vL75Uv@https://www.hadlow.ac.uk/
DTSTAMP:20260422T102539Z
DESCRIPTION:Huge crowds come to enjoy the celebration of farming and the co
 untryside over the August Bank Holiday weekend. You can register and find 
 out more by visiting their website. https://www.hadlow.ac.uk/news-events/e
 vents/event/46-edenbridge-and-oxted-agricultural-show-2023
DTSTART:20230827T080000Z
DTEND:20230828T160000Z
LOCATION:Ardenrun Showground (Ardenrun Showground\, Tandridge Lane\, Lingfi
 eld\, England\, United Kingdom)
SUMMARY:Edenbridge and Oxted Agricultural Show 2023
URL:https://www.hadlow.ac.uk/news-events/events/event/46-edenbridge-and-oxt
 ed-agricultural-show-2023
END:VEVENT
END:VCALENDAR
