BEGIN:VCALENDAR
VERSION:2.0
PRODID:-//https://www.hadlow.ac.uk///NONSGML kigkonsult.se iCalcreator 2.10.15//
METHOD:PUBLISH
BEGIN:VEVENT
UID:20260419T130021UTC-8927AbzGDP@https://www.hadlow.ac.uk/
DTSTAMP:20260419T130021Z
DESCRIPTION:Join Hadlow College – Kent’s only rural and&nbsp\;land-based co
 llege – at the Edenbridge &amp\; Oxted Show this August!\nOur stand will s
 howcase the very best of our land-based education\, from animal management
  and agriculture\, to horticulture\, equine\, and floristry.\n🐴 Meet our s
 taff and students 📚 Learn about our courses\, apprenticeships &amp\; T Lev
 els 🎓 Discover what it’s like to study at our stunning Hadlow campus 🐾 Enj
 oy interactive displays&nbsp\; 🎁 Don’t miss our freebies\, giveaways and i
 nformation about our upcoming Open Events\nWhether you're looking for a ca
 reer in the countryside or just curious about what we do\, come and say he
 llo — we'd love to see you there!\n&nbsp\;\nHuge crowds come to enjoy the 
 celebration of farming and the countryside over the August Bank Holiday we
 ekend. You can register and find out more by visiting their website. https
 ://www.hadlow.ac.uk/news-events/events/event/69-edenbridge-and-oxted-agric
 ultural-show-2025
DTSTART:20250824T080000Z
DTEND:20250825T160000Z
LOCATION:Ardenrun Showground (Ardenrun Showground\, Tandridge Lane\, Lingfi
 eld\, England\, United Kingdom)
SUMMARY:Edenbridge and Oxted Agricultural Show 2025
URL:https://www.hadlow.ac.uk/news-events/events/event/69-edenbridge-and-oxt
 ed-agricultural-show-2025
END:VEVENT
END:VCALENDAR
